Workbook
Name Baby_Facility: 'Base Costs'!$E$8
Name Baby_Physician: 'Base Costs'!$F$8
Name CatScan: 'Base Costs'!$D$24
Name Coverage: 'Plan Defn'!$A$36:$A$39
Name EE_Phys: 'Drop Down Parameters'!$C$8:$C$9
Name EEPhys: 'Drop Down Parameters'!$C$8
Name Employee_CostShare: 'Plan Defn'!$A$36:$E$39
Name ER: 'Base Costs'!$E$18
Name ER_IP: 'Base Costs'!$E$18
Name Error: 'Plan Comparison Calculator'!$R$14
Name Formulary: 'Drop Down Parameters'!$A$21:$A$30
Name FSA_Contribution: 'Plan Defn'!$E$43:$E$46
Name Generic: 'Drop Down Parameters'!$A$8:$A$17
Name HSA_Contribution: 'Plan Defn'!$A$43:$B$46
Name IP_Facility: 'Base Costs'!$E$28
Name IP_Hosp: 'Base Costs'!$E$28
Name IP_Physician: 'Base Costs'!$F$28
Name IP_XrayLab: 'Base Costs'!$D$28
Name Lab: 'Base Costs'!$D$20
Name Matenity_XrayLab: 'Base Costs'!$D$6
Name Maternity_Facility: 'Base Costs'!$E$6
Name Maternity_Inpatient: 'Base Costs'!$E$7
Name Maternity_Office: 'Base Costs'!$C$6
Name Maternity_Physician: 'Base Costs'!$F$6
Name Maternity_XrayLab: 'Base Costs'!$D$6
Name Network_Choice: 'Drop Down Parameters'!$A$56:$A$57
Name NonFormulary: 'Drop Down Parameters'!$A$33:$A$52
Name OONCostLoad: 'OOP Calc'!$B$1
Name P1_Carrier: 'Plan Defn'!$B$2
Name P1_Coins: 'Plan Defn'!$D$21
Name P1_Deduct: 'Plan Defn'!$D$6
Name P1_ER: 'Plan Defn'!$D$17
Name P1_FamMult: 'Plan Defn'!$D$7
Name P1_In_Coins: 'Plan Defn'!$B$21
Name P1_In_Deduct: 'Plan Defn'!$B$6
Name P1_In_ER: 'Plan Defn'!$B$17
Name P1_In_FamMult: 'Plan Defn'!$B$7
Name P1_In_IP_Hosp_Copay: 'Plan Defn'!$B$18
Name P1_In_LabMax: 'Plan Defn'!$B$22
Name P1_In_Maternity_IP_Copay: 'Plan Defn'!$B$19
Name P1_In_OOPMax: 'Plan Defn'!$B$8
Name P1_In_OP_Surgery_Copay: 'Plan Defn'!$B$20
Name P1_In_Ov: 'Plan Defn'!$B$11
Name P1_In_OVCoins: 'Plan Defn'!$B$15
Name P1_In_Rx1: 'Plan Defn'!$B$27
Name P1_In_Rx2: 'Plan Defn'!$B$28
Name P1_In_Rx3: 'Plan Defn'!$B$29
Name P1_IP_Hosp_Copay: 'Plan Defn'!$D$18
Name P1_LabMax: 'Plan Defn'!$D$22
Name P1_Maternity_IP_Copay: 'Plan Defn'!$D$19
Name P1_OOPMax: 'Plan Defn'!$D$8
Name P1_OP_Surg_Copay: 'Plan Defn'!$D$20
Name P1_Out_Coins: 'Plan Defn'!$C$21
Name P1_Out_Deduct: 'Plan Defn'!$C$6
Name P1_Out_ER: 'Plan Defn'!$C$17
Name P1_Out_FamMult: 'Plan Defn'!$C$7
Name P1_Out_IP_Hosp_Copay: 'Plan Defn'!$C$18
Name P1_Out_LabMax: 'Plan Defn'!$C$22
Name P1_Out_Maternity_IP_Copay: 'Plan Defn'!$C$19
Name P1_Out_OOPMax: 'Plan Defn'!$C$8

Sheet Plan Comparison Calculator
B1: Pacific Lutheran University
B2: PLU Medical Plan Cost Comparison Estimator: 2027 Plan Year
B4: 1) COVERAGE LEVEL
C5: Choose the Coverage Tier from the Drop Down Menu | F5: Employee Only
B8: 2) Projected MEDICAL Utilization
F10: Network | G10: Employee | I10: Spouse
B11: a) Place an 'X' in the box to the right if you or your COVERED spouse will have a baby in the upcoming contract year | F11: In-Network | J11: =IF(AND(I11<>FALSE,VLOOKUP(F5,'Plan Defn'!A36:H41,7,FALSE)=0),"Error - Spouse Not Listed as Eligible","")
R13: ERROR
B14: NOT INCLUDING MATERNITY RELATED VISITS, input the total combined expected visits that you and your family will have over the next 12 months and also CHOOSE WHETHER THE VISITS WILL BE IN-NETWORK or OUT-OF-NETWORK
F16: Network | G16: Employee | I16: Spouse | J16: Child(ren)
C17: b) Number of Annual Physicals | F17: In-Network | G17: 0 | I17: 0 | J17: 0 | K17: =IF(AND(VLOOKUP(F$5,'Plan Defn'!A$36:H$41,7,FALSE)=0,'Plan Comparison Calculator'!I17>0),"Error - Check Spouse/Child Enrollment",IF(AND(VLOOKUP(F$5,'Plan Defn'!A$36:H$41,8,FALSE)=0,'Plan Comparison Calculator'!J17>0),"Error - Check Spouse/Child Enrollment",""))
C19: c) Number of Primary Care Visits | F19: In-Network | G19: 0 | I19: 0 | J19: 0 | K19: =IF(AND(VLOOKUP(F$5,'Plan Defn'!A$36:H$41,7,FALSE)=0,'Plan Comparison Calculator'!I19>0),"Error - Check Spouse/Child Enrollment",IF(AND(VLOOKUP(F$5,'Plan Defn'!A$36:H$41,8,FALSE)=0,'Plan Comparison Calculator'!J19>0),"Error - Check Spouse/Child Enrollment",""))
C21: d) Number of Specialist Visits | F21: In-Network | G21: 0 | I21: 0 | J21: 0 | K21: =IF(AND(VLOOKUP(F$5,'Plan Defn'!A$36:H$41,7,FALSE)=0,'Plan Comparison Calculator'!I21>0),"Error - Check Spouse/Child Enrollment",IF(AND(VLOOKUP(F$5,'Plan Defn'!A$36:H$41,8,FALSE)=0,'Plan Comparison Calculator'!J21>0),"Error - Check Spouse/Child Enrollment",""))
C23: e) Number of Emergency Room Visits | F23: In-Network | G23: 0 | I23: 0 | J23: 0 | K23: =IF(AND(VLOOKUP(F$5,'Plan Defn'!A$36:H$41,7,FALSE)=0,'Plan Comparison Calculator'!I23>0),"Error - Check Spouse/Child Enrollment",IF(AND(VLOOKUP(F$5,'Plan Defn'!A$36:H$41,8,FALSE)=0,'Plan Comparison Calculator'!J23>0),"Error - Check Spouse/Child Enrollment",""))
C25: f) Number of Lab Tests | F25: In-Network | G25: 0 | I25: 0 | J25: 0 | K25: =IF(AND(VLOOKUP(F$5,'Plan Defn'!A$36:H$41,7,FALSE)=0,'Plan Comparison Calculator'!I25>0),"Error - Check Spouse/Child Enrollment",IF(AND(VLOOKUP(F$5,'Plan Defn'!A$36:H$41,8,FALSE)=0,'Plan Comparison Calculator'!J25>0),"Error - Check Spouse/Child Enrollment",""))
C27: g) Number of X-rays | F27: In-Network | G27: 0 | I27: 0 | J27: 0 | K27: =IF(AND(VLOOKUP(F$5,'Plan Defn'!A$36:H$41,7,FALSE)=0,'Plan Comparison Calculator'!I27>0),"Error - Check Spouse/Child Enrollment",IF(AND(VLOOKUP(F$5,'Plan Defn'!A$36:H$41,8,FALSE)=0,'Plan Comparison Calculator'!J27>0),"Error - Check Spouse/Child Enrollment",""))
C29: h) Number of CAT scans/MRIs, etc. | F29: In-Network | G29: 0 | I29: 0 | J29: 0 | K29: =IF(AND(VLOOKUP(F$5,'Plan Defn'!A$36:H$41,7,FALSE)=0,'Plan Comparison Calculator'!I29>0),"Error - Check Spouse/Child Enrollment",IF(AND(VLOOKUP(F$5,'Plan Defn'!A$36:H$41,8,FALSE)=0,'Plan Comparison Calculator'!J29>0),"Error - Check Spouse/Child Enrollment",""))
C31: i) Number of Outpatient Surgeries | F31: In-Network | G31: 0 | I31: 0 | J31: 0 | K31: =IF(AND(VLOOKUP(F$5,'Plan Defn'!A$36:H$41,7,FALSE)=0,'Plan Comparison Calculator'!I31>0),"Error - Check Spouse/Child Enrollment",IF(AND(VLOOKUP(F$5,'Plan Defn'!A$36:H$41,8,FALSE)=0,'Plan Comparison Calculator'!J31>0),"Error - Check Spouse/Child Enrollment",""))
C33: j) Number of Inpatient Hospital Admissions (excluding maternity w/delivery) | F33: In-Network | G33: 0 | I33: 0 | J33: 0 | K33: =IF(AND(VLOOKUP(F$5,'Plan Defn'!A$36:H$41,7,FALSE)=0,'Plan Comparison Calculator'!I33>0),"Error - Check Spouse/Child Enrollment",IF(AND(VLOOKUP(F$5,'Plan Defn'!A$36:H$41,8,FALSE)=0,'Plan Comparison Calculator'!J33>0),"Error - Check Spouse/Child Enrollment",""))
J34: .
B35: 3) Projected PRESCRIPTION Utilization
B37: Input the total combined expected prescriptions by type that you and your covered family members will have over the next 12 months:
C38: # of Prescriptions | E38: Network | F38: Total number of fills | G38: The calculation assumes a 30-day retail fill, so enter expected utilization based on this. To estimate annual costs for mail-order prescriptions, enter 8 for each one for the year. This equates to 4 - 90 day fills for the year at twice the retail copay.
C39: a) Generic | E39: In-Network
C40: b) Preferred Brand | E40: In-Network
C41: c) Non-Preferred Brand | E41: In-Network
G46: Kaiser | I46: Kaiser | J46: Kaiser
B47: 4) Projected Out of Pocket Costs | G47: =P1_Plan -> HSA HMO | I47: =P3_Plan -> Virtual Plus Plan | J47: =P2_Plan -> Access PPO
C48: a) Benefit Cost Sharing | G48: =VLOOKUP($F$5,'OOP Calc'!$C$238:$D$243,2,FALSE) -> 0 | I48: =VLOOKUP($F$5,'OOP Calc'!$C$178:$D$183,2,FALSE) -> 0 | J48: =VLOOKUP($F$5,'OOP Calc'!$C$118:$D$123,2,FALSE) -> 0
C49: b) Annual Payroll Deductions | G49: =VLOOKUP($F$5,Employee_CostShare,2,FALSE)*12 -> 420 | I49: =VLOOKUP($F$5,Employee_CostShare,5,FALSE)*12 -> 600 | J49: =VLOOKUP($F$5,Employee_CostShare,3,FALSE)*12 -> 1680
C50: c) Less Employer HSA Contribution | G50: =-VLOOKUP($F$5,HSA_Contribution,2,FALSE) -> -780 | I50: n/a | J50: n/a
B51: TOTAL EMPLOYEE OUT OF POCKET (premium share + benefit cost share)
B54: YOUR PROJECTED ANNUAL COST = | G54: =SUM(G48:G50) -> -360 | H54: =SUM(H48:H50) -> 0 | I54: =SUM(I48:I50) -> 600 | J54: =SUM(J48:J50) -> 1680
C55: Benefit Cost Sharing + Annual Employee Premium Contribution - Employer HSA Contribution (if any)
B57: Access PPO cost sharing assumes the member sees an enhanced provider and receives the 5% coinsurance benefit. A non-enhanced provider is 10% coinsurance.
B58: This cost modeling tool is for a quick comparison only. It produces a projection for your annual out of pocket costs based on the coverage level and plan you select. For this comparison tool, out of pocket costs are defined as a combination of your payroll contribution toward premiums as well as your deductibles, copays, etc. throughout the year that are not reimbursed by insurance or your employer.
B59: ABOVE PLAN COMPARISON ASSUMES THERE IS NO ADDITIONAL COVERAGE (e.g. - coverage through Medicare or a spouse) THE ABOVE ANALYSIS IS FOR ILLUSTRATIVE PURPOSES ONLY. ACTUAL COSTS WILL VARY.
B60: The tool is not designed for exact budgeting, but it will provide a baseline of how the cost and benefits of each option compare. If you have more specific questions, please email askaonseattle@aon.com.

Sheet OOP Calc
B1: 1.1 | C1: Assumed Out of Network Cost Load:
P2: Benefit Adjudication Multiplier: | T2: =VLOOKUP('Plan Comparison Calculator'!$F5,'Plan Defn'!$A36:$H41,7,FALSE) -> 0 | AA2: Benefit Adjudication Multiplier: | AE2: =IF(AND('Plan Comparison Calculator'!G11=FALSE,'Plan Comparison Calculator'!I11=FALSE),VLOOKUP('Plan Comparison Calculator'!$F5,'Plan Defn'!$A36:$H41,8,FALSE),1) -> 0
C4: Employee | N4: Spouse | Y4: Child(ren)
C5: Copay | E5: Office | G5: Outpatient/ Xray&Lab | I5: Facility | K5: Physician | N5: Copay | P5: Office | R5: Outpatient/ Xray&Lab | T5: Facility | V5: Physician | Y5: Copay | AA5: Office | AC5: Outpatient/ Xray&Lab | AE5: Facility | AG5: Physician
C6: NETWORK | E6: NETWORK | G6: NETWORK | I6: NETWORK | K6: NETWORK | N6: NETWORK | P6: NETWORK | R6: NETWORK | T6: NETWORK | V6: NETWORK | Y6: NETWORK | AA6: NETWORK | AC6: NETWORK | AE6: NETWORK | AG6: NETWORK
C7: IN | D7: OUT | E7: IN | F7: OUT | G7: IN | H7: OUT | I7: IN | J7: OUT | K7: IN | L7: OUT | N7: IN | O7: OUT | P7: IN | Q7: OUT | R7: IN | S7: OUT | T7: IN | U7: OUT | V7: IN | W7: OUT | Y7: IN | Z7: OUT | AA7: IN | AB7: OUT | AC7: IN | AD7: OUT | AE7: IN | AF7: OUT | AG7: IN | AH7: OUT
B8: Maternity | C8: =IF('Plan Comparison Calculator'!$G$11=FALSE,0,3*P1_In_Ov+P1_In_Maternity_IP_Copay) -> 0 | E8: =IF('Plan Comparison Calculator'!$G$11=FALSE,0,Maternity_Office) -> 0 | G8: =IF('Plan Comparison Calculator'!$G$11=FALSE,0,Maternity_XrayLab) -> 0 | I8: =IF('Plan Comparison Calculator'!$G$11=FALSE,0,Maternity_Facility) -> 0 | K8: =IF('Plan Comparison Calculator'!$G$11=FALSE,0,Maternity_Physician) -> 0 | N8: =IF('Plan Comparison Calculator'!$I$11=FALSE,0,3*P1_In_Ov+P1_In_Maternity_IP_Copay) -> 0 | P8: =IF('Plan Comparison Calculator'!$I$11=FALSE,0,Maternity_Office) -> 0 | R8: =IF('Plan Comparison Calculator'!$I$11=FALSE,0,Maternity_XrayLab) -> 0 | T8: =IF('Plan Comparison Calculator'!$I$11=FALSE,0,Maternity_Facility) -> 0 | V8: =IF('Plan Comparison Calculator'!$I$11=FALSE,0,Maternity_Physician) -> 0 | AE8: =IF(AND('Plan Comparison Calculator'!$G$11=FALSE,'Plan Comparison Calculator'!$I$11=FALSE),0,Baby_Facility) -> 0 | AG8: =IF(AND('Plan Comparison Calculator'!$G$11=FALSE,'Plan Comparison Calculator'!$I$11=FALSE),0,Baby_Physician) -> 0
A10: =P1_Plan -> HSA HMO
B14: # of Annual Physicals | C14: ='Plan Comparison Calculator'!$G$17*P1_In_Ov*0 -> 0 | E14: ='Plan Comparison Calculator'!$G$17*Physical_Office-C14 -> 0 | G14: ='Plan Comparison Calculator'!$G$17*Physical_XrayLab -> 0 | N14: ='Plan Comparison Calculator'!$I$17*P1_In_Ov*0 -> 0 | P14: ='Plan Comparison Calculator'!$I$17*Physical_Office-N14 -> 0 | R14: ='Plan Comparison Calculator'!$I$17*Physical_XrayLab -> 0 | Y14: ='Plan Comparison Calculator'!$J$17*P1_In_Ov*0 -> 0 | AA14: ='Plan Comparison Calculator'!$J$17*Physical_Office-Y14 -> 0 | AC14: ='Plan Comparison Calculator'!$J$17*Physical_XrayLab -> 0
B16: # of Primary Care Visits | C16: ='Plan Comparison Calculator'!$G$19*P1_In_Ov -> 0 | E16: ='Plan Comparison Calculator'!$G$19*Primary_Office-C16 -> 0 | G16: ='Plan Comparison Calculator'!$G$19*Primary_XrayLab -> 0 | N16: ='Plan Comparison Calculator'!$I$19*P1_In_Ov -> 0 | P16: ='Plan Comparison Calculator'!$I$19*Primary_Office-N16 -> 0 | R16: ='Plan Comparison Calculator'!$I$19*Primary_XrayLab -> 0 | Y16: ='Plan Comparison Calculator'!$J$19*P1_In_Ov -> 0 | AA16: ='Plan Comparison Calculator'!$J$19*Primary_Office-Y16 -> 0 | AC16: ='Plan Comparison Calculator'!$J$19*Primary_XrayLab -> 0
B18: # of Specialist Visits | C18: ='Plan Comparison Calculator'!$G$21*P1_In_Ov -> 0 | E18: =Specialist_Office*'Plan Comparison Calculator'!$G$21-C18 -> 0 | G18: =Specialist_XrayLab*'Plan Comparison Calculator'!$G$21 -> 0 | N18: ='Plan Comparison Calculator'!$I$21*P1_In_Ov -> 0 | P18: =Specialist_Office*'Plan Comparison Calculator'!$I$21-N18 -> 0 | R18: =Specialist_XrayLab*'Plan Comparison Calculator'!$I$21 -> 0 | Y18: ='Plan Comparison Calculator'!$J$21*P1_In_Ov -> 0 | AA18: =Specialist_Office*'Plan Comparison Calculator'!$J$21-Y18 -> 0 | AC18: =Specialist_XrayLab*'Plan Comparison Calculator'!$J$21 -> 0
B20: # of Emergency Room Visits | C20: ='Plan Comparison Calculator'!$G$23*P1_In_ER -> 0 | I20: =ER*'Plan Comparison Calculator'!$G$23-C20 -> 0 | N20: ='Plan Comparison Calculator'!$I$23*P1_In_ER -> 0 | T20: =ER*'Plan Comparison Calculator'!$I$23-N20 -> 0 | Y20: ='Plan Comparison Calculator'!$J$23*P1_In_ER -> 0 | AE20: =ER*'Plan Comparison Calculator'!$J$23-Y20 -> 0
B22: # of Lab Tests | G22: =Lab*'Plan Comparison Calculator'!$G$25 -> 0 | R22: =Lab*'Plan Comparison Calculator'!$I$25 -> 0 | AC22: =Lab*'Plan Comparison Calculator'!$J$25 -> 0
B24: # of X-rays | G24: =Xray*'Plan Comparison Calculator'!$G$27 -> 0 | R24: =Xray*'Plan Comparison Calculator'!$I$27 -> 0 | AC24: =Xray*'Plan Comparison Calculator'!$J$27 -> 0
B26: # of CAT scans/MRIs/Etc. | G26: =CatScan*'Plan Comparison Calculator'!$G$29 -> 0 | R26: =CatScan*'Plan Comparison Calculator'!$I$29 -> 0 | AC26: =CatScan*'Plan Comparison Calculator'!$J$29 -> 0
B28: # of Outpatient Surgeries | C28: ='Plan Comparison Calculator'!$G$31*P1_In_OP_Surgery_Copay -> 0 | I28: =Surgery_Facility*'Plan Comparison Calculator'!$G$31-C28 -> 0 | K28: =Surgery_Physician*'Plan Comparison Calculator'!$G$31 -> 0 | N28: ='Plan Comparison Calculator'!$I$31*P1_In_OP_Surgery_Copay -> 0 | T28: =Surgery_Facility*'Plan Comparison Calculator'!$I$31-N28 -> 0 | V28: =Surgery_Physician*'Plan Comparison Calculator'!$I$31 -> 0 | Y28: ='Plan Comparison Calculator'!$J$31*P1_In_OP_Surgery_Copay -> 0 | AE28: =Surgery_Facility*'Plan Comparison Calculator'!$J$31-Y28 -> 0 | AG28: =Surgery_Physician*'Plan Comparison Calculator'!$J$31 -> 0
B30: # of Inpatient Hospital Admissions | C30: ='Plan Comparison Calculator'!$G$33*P1_In_IP_Hosp_Copay -> 0 | G30: =IP_XrayLab*'Plan Comparison Calculator'!$G$33 -> 0 | I30: =IP_Facility*'Plan Comparison Calculator'!$G$33-C30 -> 0 | K30: =IP_Physician*'Plan Comparison Calculator'!$G$33 -> 0 | N30: ='Plan Comparison Calculator'!$I$33*P1_In_IP_Hosp_Copay -> 0 | R30: =IP_XrayLab*'Plan Comparison Calculator'!$I$33 -> 0 | T30: =IP_Facility*'Plan Comparison Calculator'!$I$33-N30 -> 0 | V30: =IP_Physician*'Plan Comparison Calculator'!$I$33 -> 0 | Y30: ='Plan Comparison Calculator'!$J$33*P1_In_IP_Hosp_Copay -> 0 | AC30: =IP_XrayLab*'Plan Comparison Calculator'!$J$33 -> 0 | AE30: =IP_Facility*'Plan Comparison Calculator'!$J$33-Y30 -> 0 | AG30: =IP_Physician*'Plan Comparison Calculator'!$J$33 -> 0
C34: =SUM(C14:C30,C8) -> 0 | E34: =SUM(E16:E30,E8) -> 0 | G34: =MAX(SUM(G8:G26)-P1_In_LabMax,0)+SUM(G29:G30) -> 0 | I34: =SUM(I16:I30,I8) -> 0 | K34: =SUM(K16:K30,K8) -> 0 | N34: =SUM(N14:N30,N8) -> 0 | P34: =SUM(P16:P30,P8) -> 0 | R34: =MAX(SUM(R8:R26)-P1_In_LabMax,0)+SUM(R29:R30) -> 0 | T34: =SUM(T16:T30,T8) -> 0 | V34: =SUM(V16:V30,V8) -> 0 | Y34: =SUM(Y14:Y30,Y8) -> 0 | AA34: =SUM(AA16:AA30,AA8) -> 0 | AC34: =MAX(SUM(AC8:AC26)-P1_In_LabMax,0)+SUM(AC29:AC30) -> 0 | AE34: =SUM(AE16:AE30,AE8) -> 0 | AG34: =SUM(AG16:AG30,AG8) -> 0
C36: Rx Cost
C37: =P1_In_Rx1*'Plan Comparison Calculator'!$F$39+P1_Out_Rx1*'Plan Comparison Calculator'!$K$39 -> 0
C38: =P1_In_Rx2*'Plan Comparison Calculator'!$F$40+P1_Out_Rx2*'Plan Comparison Calculator'!$K$40 -> 0
C39: =P1_In_Rx3*'Plan Comparison Calculator'!$F$41+P1_Out_Rx3*'Plan Comparison Calculator'!$K$41 -> 0
C41: =SUM(C37:C39) -> 0 | E41: TOTAL Rx Copays
C45: =SUM(C34:D34) -> 0 | E45: Non Rx Copays | N45: =SUM(N34:O34)*T$2 -> 0 | P45: Non Rx Copays | Y45: =SUM(Y34:Z34)*AE$2 -> 0 | AA45: Non Rx Copays
C46: =E34+G34+I34+K34 -> 0 | E46: Grand Total Deductible - In-Network | N46: =(P34+R34+T34+V34)*T$2 -> 0 | P46: Grand Total Deductible - In-Network | Y46: =(AA34+AC34+AE34+AG34)*AE$2 -> 0 | AA46: Grand Total Deductible - In-Network
C48: =E34+G34+I34+K34 -> 0 | E48: Grand Total Coinsurance - In-Network | N48: =(P34+R34+T34+V34)*T$2 -> 0 | P48: Grand Total Coinsurance - In-Network | Y48: =(AA34+AC34+AE34+AG34)*AE$2 -> 0 | AA48: Grand Total Coinsurance - In-Network
C51: =MIN(C46,P1_In_Deduct) -> 0 | E51: Deductible OOP - In-Network | N51: =MIN(N46,P1_In_Deduct) -> 0 | P51: Deductible OOP - In-Network | Y51: =MIN(Y46,P1_In_Deduct) -> 0 | AA51: Deductible OOP - In-Network
C54: =MIN((C48-C51)*(1-P1_In_Coins),P1_In_OOPMax) -> 0 | E54: Coinsurance OOP - In-Network | N54: =MIN((N48-N51)*(1-P1_In_Coins),P1_In_OOPMax) -> 0 | P54: Coinsurance OOP - In-Network | Y54: =MIN((Y48-Y51)*(1-P1_In_Coins),P1_In_OOPMax) -> 0 | AA54: Coinsurance OOP - In-Network
T58: Family Deduct OOP - In-Network | V58: =MIN((C51+N51+Y51),(P1_In_Deduct*P1_In_FamMult)) -> 0
T61: Familiy Coinsurance OOP - In-Network | V61: =MIN((C54+N54+Y54),(P1_In_OOPMax*P1_In_FamMult)) -> 0
C64: Employee | N64: Spouse | Y64: Child(ren)
C65: Copay | E65: Office | G65: Outpatient/ Xray&Lab | I65: Facility | K65: Physician | N65: Copay | P65: Office | R65: Outpatient/ Xray&Lab | T65: Facility | V65: Physician | Y65: Copay | AA65: Office | AC65: Outpatient/ Xray&Lab | AE65: Facility | AG65: Physician
C66: NETWORK | E66: NETWORK | G66: NETWORK | I66: NETWORK | K66: NETWORK | N66: NETWORK | P66: NETWORK | R66: NETWORK | T66: NETWORK | V66: NETWORK | Y66: NETWORK | AA66: NETWORK | AC66: NETWORK | AE66: NETWORK | AG66: NETWORK
C67: IN | D67: OUT | E67: IN | F67: OUT | G67: IN | H67: OUT | I67: IN | J67: OUT | K67: IN | L67: OUT | N67: IN | O67: OUT | P67: IN | Q67: OUT | R67: IN | S67: OUT | T67: IN | U67: OUT | V67: IN | W67: OUT | Y67: IN | Z67: OUT | AA67: IN | AB67: OUT | AC67: IN | AD67: OUT | AE67: IN | AF67: OUT | AG67: IN | AH67: OUT
B68: Maternity | C68: =IF('Plan Comparison Calculator'!$G$11=FALSE,0,IF('Plan Comparison Calculator'!$F$11="In-Network",3*P2_In_OV+P2_In_Maternity_IP_Copay,"")) -> 0 | D68: =IF('Plan Comparison Calculator'!$G$11=FALSE,0,IF('Plan Comparison Calculator'!$F$11="PLUS ONLY Out-of-Network",3*P2_Out_OV+P2_Out_Maternity_IP_Copay,"")) -> 0 | E68: =IF('Plan Comparison Calculator'!$G$11=FALSE,0,IF('Plan Comparison Calculator'!$F$11="In-Network",Maternity_Office,"")) -> 0 | F68: =IF('Plan Comparison Calculator'!$G$11=FALSE,0,IF('Plan Comparison Calculator'!$F$11="PLUS ONLY Out-of-Network",Maternity_Office*OONCostLoad,"")) -> 0 | G68: =IF('Plan Comparison Calculator'!$G$11=FALSE,0,IF('Plan Comparison Calculator'!$F$11="In-Network",Maternity_XrayLab,"")) -> 0 | H68: =IF('Plan Comparison Calculator'!$G$11=FALSE,0,IF('Plan Comparison Calculator'!$F$11="PLUS ONLY Out-of-Network",Maternity_XrayLab*OONCostLoad,"")) -> 0 | I68: =IF('Plan Comparison Calculator'!$G$11=FALSE,0,IF('Plan Comparison Calculator'!$F$11="In-Network",Maternity_Facility,"")) -> 0 | J68: =IF('Plan Comparison Calculator'!$G$11=FALSE,0,IF('Plan Comparison Calculator'!$F$11="PLUS ONLY Out-of-Network",Maternity_Facility*OONCostLoad,"")) -> 0 | K68: =IF('Plan Comparison Calculator'!$G$11=FALSE,0,IF('Plan Comparison Calculator'!$F$11="In-Network",Maternity_Physician,"")) -> 0 | L68: =IF('Plan Comparison Calculator'!$G$11=FALSE,0,IF('Plan Comparison Calculator'!$F$11="PLUS ONLY Out-of-Network",Maternity_Physician*OONCostLoad,"")) -> 0 | N68: =IF('Plan Comparison Calculator'!$I$11=FALSE,0,IF('Plan Comparison Calculator'!$F$11="In-Network",3*P2_In_OV+P2_In_Maternity_IP_Copay,"")) -> 0 | O68: =IF('Plan Comparison Calculator'!$I$11=FALSE,0,IF('Plan Comparison Calculator'!$F$11="PLUS ONLY Out-of-Network",3*P2_Out_OV+P2_Out_Maternity_IP_Copay,"")) -> 0 | P68: =IF('Plan Comparison Calculator'!$I$11=FALSE,0,IF('Plan Comparison Calculator'!$F$11="In-Network",Maternity_Office,"")) -> 0 | Q68: =IF('Plan Comparison Calculator'!$I$11=FALSE,0,IF('Plan Comparison Calculator'!$F$11="PLUS ONLY Out-of-Network",Maternity_Office*OONCostLoad,"")) -> 0 | R68: =IF('Plan Comparison Calculator'!$I$11=FALSE,0,IF('Plan Comparison Calculator'!$F$11="In-Network",Maternity_XrayLab,"")) -> 0 | S68: =IF('Plan Comparison Calculator'!$I$11=FALSE,0,IF('Plan Comparison Calculator'!$F$11="PLUS ONLY Out-of-Network",Maternity_XrayLab*OONCostLoad,"")) -> 0 | T68: =IF('Plan Comparison Calculator'!$I$11=FALSE,0,IF('Plan Comparison Calculator'!$F$11="In-Network",Maternity_Facility,"")) -> 0 | U68: =IF('Plan Comparison Calculator'!$I$11=FALSE,0,IF('Plan Comparison Calculator'!$F$11="PLUS ONLY Out-of-Network",Maternity_Facility*OONCostLoad,"")) -> 0 | V68: =IF('Plan Comparison Calculator'!$I$11=FALSE,0,IF('Plan Comparison Calculator'!$F$11="In-Network",Maternity_Physician,"")) -> 0 | W68: =IF('Plan Comparison Calculator'!$I$11=FALSE,0,IF('Plan Comparison Calculator'!$F$11="PLUS ONLY Out-of-Network",Maternity_Physician*OONCostLoad,"")) -> 0 | AE68: =IF('Plan Comparison Calculator'!F11="In-Network",IF(AND('Plan Comparison Calculator'!$G$11=FALSE,'Plan Comparison Calculator'!$I$11=FALSE),0,Baby_Facility),0) -> 0 | AF68: =IF(AND('Plan Comparison Calculator'!$I$11=FALSE,'Plan Comparison Calculator'!$G$11=FALSE),0,IF('Plan Comparison Calculator'!$F$11="PLUS ONLY Out-of-Network",Baby_Facility*OONCostLoad,"")) -> 0 | AG68: =IF('Plan Comparison Calculator'!F11="In-Network",IF(AND('Plan Comparison Calculator'!$G$11=FALSE,'Plan Comparison Calculator'!$I$11=FALSE),0,Baby_Physician),0) -> 0 | AH68: =IF(AND('Plan Comparison Calculator'!$I$11=FALSE,'Plan Comparison Calculator'!$G$11=FALSE),0,IF('Plan Comparison Calculator'!$F$11="PLUS ONLY Out-of-Network",Baby_Physician*OONCostLoad,"")) -> 0
B74: # of Annual Physicals | C74: =IF('Plan Comparison Calculator'!$F$17="In-Network",'Plan Comparison Calculator'!$G$17*P2_In_OV,0)*0 -> 0 | D74: =IF('Plan Comparison Calculator'!$F$17="PLUS ONLY Out-of-Network",'Plan Comparison Calculator'!$G$17*P2_Out_OV,0) -> 0 | E74: =IF('Plan Comparison Calculator'!$F$17="In-Network",'Plan Comparison Calculator'!$G$17*Physical_Office-C74,"") -> 0 | F74: =IF('Plan Comparison Calculator'!$F$17="PLUS ONLY Out-of-Network",'Plan Comparison Calculator'!$G$17*Physical_Office*OONCostLoad-D74,"") | G74: =IF('Plan Comparison Calculator'!$F$17="In-Network",'Plan Comparison Calculator'!$G$17*Physical_XrayLab,"") -> 0 | H74: =IF('Plan Comparison Calculator'!$F$17="PLUS ONLY Out-of-Network",'Plan Comparison Calculator'!$G$17*Physical_XrayLab*OONCostLoad,"") | N74: =IF('Plan Comparison Calculator'!$F$17="In-Network",'Plan Comparison Calculator'!$I$17*P2_In_OV,0)*0 -> 0 | O74: =IF('Plan Comparison Calculator'!$F$17="PLUS ONLY Out-of-Network",'Plan Comparison Calculator'!$I$17*P2_Out_OV,0) -> 0 | P74: =IF('Plan Comparison Calculator'!$F$17="In-Network",'Plan Comparison Calculator'!$I$17*Physical_Office-N74,"") -> 0 | Q74: =IF('Plan Comparison Calculator'!$F$17="PLUS ONLY Out-of-Network",'Plan Comparison Calculator'!$I$17*Physical_Office*OONCostLoad-O74,"") | R74: =IF('Plan Comparison Calculator'!$F$17="In-Network",'Plan Comparison Calculator'!$I$17*Physical_XrayLab,"") -> 0 | S74: =IF('Plan Comparison Calculator'!$F$17="PLUS ONLY Out-of-Network",'Plan Comparison Calculator'!$I$17*Physical_XrayLab*OONCostLoad,"") | Y74: =IF('Plan Comparison Calculator'!$F$17="In-Network",'Plan Comparison Calculator'!$J$17*P2_In_OV,0)*0 -> 0 | Z74: =IF('Plan Comparison Calculator'!$F$17="PLUS ONLY Out-of-Network",'Plan Comparison Calculator'!$J$17*P2_Out_OV,0) -> 0 | AA74: =IF('Plan Comparison Calculator'!$F$17="In-Network",'Plan Comparison Calculator'!$J$17*Physical_Office-Y74,"") -> 0 | AB74: =IF('Plan Comparison Calculator'!$F$17="PLUS ONLY Out-of-Network",'Plan Comparison Calculator'!$J$17*Physical_Office*OONCostLoad-Z74,"") | AC74: =IF('Plan Comparison Calculator'!$F$17="In-Network",'Plan Comparison Calculator'!$J$17*Physical_XrayLab,"") -> 0 | AD74: =IF('Plan Comparison Calculator'!$F$17="PLUS ONLY Out-of-Network",'Plan Comparison Calculator'!$J$17*Physical_XrayLab*OONCostLoad,"")
B76: # of Primary Care Visits | C76: ='Plan Comparison Calculator'!$G$19*P1_In_Ov -> 0 | D76: =IF('Plan Comparison Calculator'!$F$19="PLUS ONLY Out-of-Network",'Plan Comparison Calculator'!$G$19*P2_Out_OV,"") | E76: =IF('Plan Comparison Calculator'!$F$19="In-Network",'Plan Comparison Calculator'!$G$19*Primary_Office-C76,"") -> 0 | F76: =IF('Plan Comparison Calculator'!$F$19="PLUS ONLY Out-of-Network",'Plan Comparison Calculator'!$G$19*Primary_Office*OONCostLoad-D76,"") | G76: =IF('Plan Comparison Calculator'!$F$19="In-Network",'Plan Comparison Calculator'!$G$19*Primary_XrayLab,"") -> 0 | H76: =IF('Plan Comparison Calculator'!$F$19="PLUS ONLY Out-of-Network",'Plan Comparison Calculator'!$G$19*Primary_XrayLab*OONCostLoad,"") | N76: ='Plan Comparison Calculator'!$I$19*P1_In_Ov -> 0 | O76: =IF('Plan Comparison Calculator'!$F$19="PLUS ONLY Out-of-Network",'Plan Comparison Calculator'!$I$19*P2_Out_OV,"") | P76: =IF('Plan Comparison Calculator'!$F$19="In-Network",'Plan Comparison Calculator'!$I$19*Primary_Office-N76,"") -> 0 | Q76: =IF('Plan Comparison Calculator'!$F$19="PLUS ONLY Out-of-Network",'Plan Comparison Calculator'!$I$19*Primary_Office*OONCostLoad-O76,"") | R76: =IF('Plan Comparison Calculator'!$F$19="In-Network",'Plan Comparison Calculator'!$I$19*Primary_XrayLab,"") -> 0 | S76: =IF('Plan Comparison Calculator'!$F$19="PLUS ONLY Out-of-Network",'Plan Comparison Calculator'!$I$19*Primary_XrayLab*OONCostLoad,"") | Y76: ='Plan Comparison Calculator'!$J$19*P1_In_Ov -> 0 | Z76: =IF('Plan Comparison Calculator'!$F$19="PLUS ONLY Out-of-Network",'Plan Comparison Calculator'!$J$19*P2_Out_OV,"") | AA76: =IF('Plan Comparison Calculator'!$F$19="In-Network",'Plan Comparison Calculator'!$J$19*Primary_Office-Y76,"") -> 0 | AB76: =IF('Plan Comparison Calculator'!$F$19="PLUS ONLY Out-of-Network",'Plan Comparison Calculator'!$J$19*Primary_Office*OONCostLoad-Z76,"") | AC76: =IF('Plan Comparison Calculator'!$F$19="In-Network",'Plan Comparison Calculator'!$J$19*Primary_XrayLab,"") -> 0 | AD76: =IF('Plan Comparison Calculator'!$F$19="PLUS ONLY Out-of-Network",'Plan Comparison Calculator'!$J$19*Primary_XrayLab*OONCostLoad,"")
A78: =P2_Plan -> Access PPO | B78: # of Specialist Visits | C78: ='Plan Comparison Calculator'!$G$21*P1_In_Ov -> 0 | D78: =IF('Plan Comparison Calculator'!$F$21="PLUS ONLY Out-of-Network",'Plan Comparison Calculator'!$G$21*P2_Out_OV,"") | E78: =IF('Plan Comparison Calculator'!$F$21="In-Network",Specialist_Office*'Plan Comparison Calculator'!$G$21-C78,"") -> 0 | F78: =IF('Plan Comparison Calculator'!$F$21="PLUS ONLY Out-of-Network",Specialist_Office*'Plan Comparison Calculator'!$G$21*OONCostLoad-D78,"") | G78: =IF('Plan Comparison Calculator'!$F$21="In-Network",Specialist_XrayLab*'Plan Comparison Calculator'!$G$21,"") -> 0 | H78: =IF('Plan Comparison Calculator'!$F$21="PLUS ONLY Out-of-Network",Specialist_XrayLab*'Plan Comparison Calculator'!$G$21*OONCostLoad,"") | N78: ='Plan Comparison Calculator'!$I$21*P1_In_Ov -> 0 | O78: =IF('Plan Comparison Calculator'!$F$21="PLUS ONLY Out-of-Network",'Plan Comparison Calculator'!$I$21*P2_Out_OV,"") | P78: =IF('Plan Comparison Calculator'!$F$21="In-Network",Specialist_Office*'Plan Comparison Calculator'!$I$21-N78,"") -> 0 | Q78: =IF('Plan Comparison Calculator'!$F$21="PLUS ONLY Out-of-Network",Specialist_Office*'Plan Comparison Calculator'!$I$21*OONCostLoad-O78,"") | R78: =IF('Plan Comparison Calculator'!$F$21="In-Network",Specialist_XrayLab*'Plan Comparison Calculator'!$I$21,"") -> 0 | S78: =IF('Plan Comparison Calculator'!$F$21="PLUS ONLY Out-of-Network",Specialist_XrayLab*'Plan Comparison Calculator'!$I$21*OONCostLoad,"") | Y78: ='Plan Comparison Calculator'!$J$19*P1_In_Ov -> 0 | Z78: =IF('Plan Comparison Calculator'!$F$21="PLUS ONLY Out-of-Network",'Plan Comparison Calculator'!$J$21*P2_Out_OV,"") | AA78: =IF('Plan Comparison Calculator'!$F$21="In-Network",Specialist_Office*'Plan Comparison Calculator'!$J$21-Y78,"") -> 0 | AB78: =IF('Plan Comparison Calculator'!$F$21="PLUS ONLY Out-of-Network",Specialist_Office*'Plan Comparison Calculator'!$J$21*OONCostLoad-Z78,"") | AC78: =IF('Plan Comparison Calculator'!$F$21="In-Network",Specialist_XrayLab*'Plan Comparison Calculator'!$J$21,"") -> 0 | AD78: =IF('Plan Comparison Calculator'!$F$21="PLUS ONLY Out-of-Network",Specialist_XrayLab*'Plan Comparison Calculator'!$J$21*OONCostLoad,"")
B80: # of Emergency Room Visits | C80: =IF('Plan Comparison Calculator'!$F$23="In-Network",'Plan Comparison Calculator'!$G$23*P2_In_ER,"") -> 0 | D80: =IF('Plan Comparison Calculator'!$F$23="PLUS ONLY Out-of-Network",'Plan Comparison Calculator'!$G$23*P2_Out_ER,"") | I80: =IF('Plan Comparison Calculator'!$F$23="In-Network",ER*'Plan Comparison Calculator'!$G$23-C80,"") -> 0 | J80: =IF('Plan Comparison Calculator'!$F$23="PLUS ONLY Out-of-Network",ER*'Plan Comparison Calculator'!$G$23*OONCostLoad-D80,"") | N80: =IF('Plan Comparison Calculator'!$F$23="In-Network",'Plan Comparison Calculator'!$I$23*P2_In_ER,"") -> 0 | O80: =IF('Plan Comparison Calculator'!$F$23="PLUS ONLY Out-of-Network",'Plan Comparison Calculator'!$I$23*P2_Out_ER,"") | T80: =IF('Plan Comparison Calculator'!$F$23="In-Network",ER*'Plan Comparison Calculator'!$I$23-$N80,"") -> 0 | U80: =IF('Plan Comparison Calculator'!$F$23="PLUS ONLY Out-of-Network",ER*'Plan Comparison Calculator'!$I$23*OONCostLoad-O80,"") | Y80: =IF('Plan Comparison Calculator'!$F$23="In-Network",'Plan Comparison Calculator'!$J$23*P2_In_ER,"") -> 0 | Z80: =IF('Plan Comparison Calculator'!$F$23="PLUS ONLY Out-of-Network",'Plan Comparison Calculator'!$J$23*P2_Out_ER,"") | AE80: =IF('Plan Comparison Calculator'!$F$23="In-Network",ER*'Plan Comparison Calculator'!$J$23-$Y80,"") -> 0 | AF80: =IF('Plan Comparison Calculator'!$F$23="PLUS ONLY Out-of-Network",ER*'Plan Comparison Calculator'!$J$23*OONCostLoad-Z80,"")
B82: # of Lab Tests | G82: =IF('Plan Comparison Calculator'!$F$25="In-Network",Lab*'Plan Comparison Calculator'!$G$25,"") -> 0 | H82: =IF('Plan Comparison Calculator'!$F$25="PLUS ONLY Out-of-Network",Lab*'Plan Comparison Calculator'!$G$25*OONCostLoad,"") | R82: =IF('Plan Comparison Calculator'!$F$25="In-Network",Lab*'Plan Comparison Calculator'!$I$25,"") -> 0 | S82: =IF('Plan Comparison Calculator'!$F$25="PLUS ONLY Out-of-Network",Lab*'Plan Comparison Calculator'!$I$25*OONCostLoad,"") | AC82: =IF('Plan Comparison Calculator'!$F$25="In-Network",Lab*'Plan Comparison Calculator'!$J$25,"") -> 0 | AD82: =IF('Plan Comparison Calculator'!$F$25="PLUS ONLY Out-of-Network",Lab*'Plan Comparison Calculator'!$J$25*OONCostLoad,"")
B84: # of X-rays | G84: =IF('Plan Comparison Calculator'!$F$27="In-Network",Xray*'Plan Comparison Calculator'!$G$27,"") -> 0 | H84: =IF('Plan Comparison Calculator'!$F$27="PLUS ONLY Out-of-Network",Xray*'Plan Comparison Calculator'!$G$27*OONCostLoad,"") | R84: =IF('Plan Comparison Calculator'!$F$27="In-Network",Xray*'Plan Comparison Calculator'!$I$27,"") -> 0 | S84: =IF('Plan Comparison Calculator'!$F$27="PLUS ONLY Out-of-Network",Xray*'Plan Comparison Calculator'!$I$27*OONCostLoad,"") | AC84: =IF('Plan Comparison Calculator'!$F$27="In-Network",Xray*'Plan Comparison Calculator'!$J$27,"") -> 0 | AD84: =IF('Plan Comparison Calculator'!$F$27="PLUS ONLY Out-of-Network",Xray*'Plan Comparison Calculator'!$J$27*OONCostLoad,"")
B86: # of CAT scans/MRIs/Etc. | G86: =IF('Plan Comparison Calculator'!$F$29="In-Network",CatScan*'Plan Comparison Calculator'!$G$29,"") -> 0 | H86: =IF('Plan Comparison Calculator'!$F$29="PLUS ONLY Out-of-Network",CatScan*'Plan Comparison Calculator'!$G$29*OONCostLoad,"") | R86: =IF('Plan Comparison Calculator'!$F$29="In-Network",CatScan*'Plan Comparison Calculator'!$I$29,"") -> 0 | S86: =IF('Plan Comparison Calculator'!$F$29="PLUS ONLY Out-of-Network",CatScan*'Plan Comparison Calculator'!$I$29*OONCostLoad,"") | AC86: =IF('Plan Comparison Calculator'!$F$29="In-Network",CatScan*'Plan Comparison Calculator'!$J$29,"") -> 0 | AD86: =IF('Plan Comparison Calculator'!$F$29="PLUS ONLY Out-of-Network",CatScan*'Plan Comparison Calculator'!$J$29*OONCostLoad,"")
B88: # of Outpatient Surgeries | C88: =IF('Plan Comparison Calculator'!$F$31="In-Network",'Plan Comparison Calculator'!$G$31*P2_In_OP_Surgery_Copay,"") -> 0 | D88: =IF('Plan Comparison Calculator'!$F$31="PLUS ONLY Out-of-Network",'Plan Comparison Calculator'!$G$31*P2_Out_OP_Surgery_Copay,"") | I88: =IF('Plan Comparison Calculator'!$F$31="In-Network",Surgery_Facility*'Plan Comparison Calculator'!$G$31-C88,"") -> 0 | J88: =IF('Plan Comparison Calculator'!$F$31="PLUS ONLY Out-of-Network",Surgery_Facility*'Plan Comparison Calculator'!$G$31*OONCostLoad-D88,"") | K88: =IF('Plan Comparison Calculator'!$F$31="In-Network",Surgery_Physician*'Plan Comparison Calculator'!$G$31,"") -> 0 | L88: =IF('Plan Comparison Calculator'!$F$31="PLUS ONLY Out-of-Network",Surgery_Physician*'Plan Comparison Calculator'!$G$31*OONCostLoad,"") | N88: =IF('Plan Comparison Calculator'!$F$31="In-Network",'Plan Comparison Calculator'!$I$31*P2_In_OP_Surgery_Copay,"") -> 0 | O88: =IF('Plan Comparison Calculator'!$F$31="PLUS ONLY Out-of-Network",'Plan Comparison Calculator'!$I$31*P2_Out_OP_Surgery_Copay,"") | T88: =IF('Plan Comparison Calculator'!$F$31="In-Network",Surgery_Facility*'Plan Comparison Calculator'!$I$31-N88,"") -> 0 | U88: =IF('Plan Comparison Calculator'!$F$31="PLUS ONLY Out-of-Network",Surgery_Facility*'Plan Comparison Calculator'!$I$31*OONCostLoad-O88,"") | V88: =IF('Plan Comparison Calculator'!$F$31="In-Network",Surgery_Physician*'Plan Comparison Calculator'!$I$31,"") -> 0 | W88: =IF('Plan Comparison Calculator'!$F$31="PLUS ONLY Out-of-Network",Surgery_Physician*'Plan Comparison Calculator'!$I$31*OONCostLoad,"") | Y88: =IF('Plan Comparison Calculator'!$F$31="In-Network",'Plan Comparison Calculator'!$J$31*P2_In_OP_Surgery_Copay,"") -> 0 | Z88: =IF('Plan Comparison Calculator'!$F$31="PLUS ONLY Out-of-Network",'Plan Comparison Calculator'!$J$31*P2_Out_OP_Surgery_Copay,"") | AE88: =IF('Plan Comparison Calculator'!$F$31="In-Network",Surgery_Facility*'Plan Comparison Calculator'!$J$31-Y88,"") -> 0 | AF88: =IF('Plan Comparison Calculator'!$F$31="PLUS ONLY Out-of-Network",Surgery_Facility*'Plan Comparison Calculator'!$J$31*OONCostLoad-Z88,"") | AG88: =IF('Plan Comparison Calculator'!$F$31="In-Network",Surgery_Physician*'Plan Comparison Calculator'!$J$31,"") -> 0 | AH88: =IF('Plan Comparison Calculator'!$F$31="PLUS ONLY Out-of-Network",Surgery_Physician*'Plan Comparison Calculator'!$J$31*OONCostLoad,"")
B90: # of Inpatient Hospital Admissions | C90: =IF('Plan Comparison Calculator'!$F$33="In-Network",'Plan Comparison Calculator'!$G$33*P2_In_IP_Hosp_Copay,"") -> 0 | D90: =IF('Plan Comparison Calculator'!$F$33="PLUS ONLY Out-of-Network",'Plan Comparison Calculator'!$G$33*P2_Out_IP_Hosp_Copay,"") | G90: =IF('Plan Comparison Calculator'!$F$33="In-Network",IP_XrayLab*'Plan Comparison Calculator'!$G$33,"") -> 0 | H90: =IF('Plan Comparison Calculator'!$F$33="PLUS ONLY Out-of-Network",IP_XrayLab*'Plan Comparison Calculator'!$G$33*OONCostLoad,"") | I90: =IF('Plan Comparison Calculator'!$F$33="In-Network",IP_Facility*'Plan Comparison Calculator'!$G$33-C90,"") -> 0 | J90: =IF('Plan Comparison Calculator'!$F$33="PLUS ONLY Out-of-Network",IP_Facility*'Plan Comparison Calculator'!$G$33*OONCostLoad-D90,"") | K90: =IF('Plan Comparison Calculator'!$F$33="In-Network",IP_Physician*'Plan Comparison Calculator'!$G$33,"") -> 0 | L90: =IF('Plan Comparison Calculator'!$F$33="PLUS ONLY Out-of-Network",IP_Physician*'Plan Comparison Calculator'!$G$33*OONCostLoad,"") | N90: =IF('Plan Comparison Calculator'!$F$33="In-Network",'Plan Comparison Calculator'!$I$33*P2_In_IP_Hosp_Copay,"") -> 0 | O90: =IF('Plan Comparison Calculator'!$F$33="PLUS ONLY Out-of-Network",'Plan Comparison Calculator'!$I$33*P2_Out_IP_Hosp_Copay,"") | R90: =IF('Plan Comparison Calculator'!$F$33="In-Network",IP_XrayLab*'Plan Comparison Calculator'!$I$33,"") -> 0 | S90: =IF('Plan Comparison Calculator'!$F$33="PLUS ONLY Out-of-Network",IP_XrayLab*'Plan Comparison Calculator'!$I$33*OONCostLoad,"") | T90: =IF('Plan Comparison Calculator'!$F$33="In-Network",IP_Facility*'Plan Comparison Calculator'!$I$33-N90,"") -> 0 | U90: =IF('Plan Comparison Calculator'!$F$33="PLUS ONLY Out-of-Network",IP_Facility*'Plan Comparison Calculator'!$I$33*OONCostLoad-O90,"") | V90: =IF('Plan Comparison Calculator'!$F$33="In-Network",IP_Physician*'Plan Comparison Calculator'!$I$33,"") -> 0 | W90: =IF('Plan Comparison Calculator'!$F$33="PLUS ONLY Out-of-Network",IP_Physician*'Plan Comparison Calculator'!$I$33*OONCostLoad,"") | Y90: =IF('Plan Comparison Calculator'!$F$33="In-Network",'Plan Comparison Calculator'!$J$33*P2_In_IP_Hosp_Copay,"") -> 0 | Z90: =IF('Plan Comparison Calculator'!$F$33="PLUS ONLY Out-of-Network",'Plan Comparison Calculator'!$J$33*P2_Out_IP_Hosp_Copay,"") | AC90: =IF('Plan Comparison Calculator'!$F$33="In-Network",IP_XrayLab*'Plan Comparison Calculator'!$J$33,"") -> 0 | AD90: =IF('Plan Comparison Calculator'!$F$33="PLUS ONLY Out-of-Network",IP_XrayLab*'Plan Comparison Calculator'!$J$33*OONCostLoad,"") | AE90: =IF('Plan Comparison Calculator'!$F$33="In-Network",IP_Facility*'Plan Comparison Calculator'!$J$33-Y90,"") -> 0 | AF90: =IF('Plan Comparison Calculator'!$F$33="PLUS ONLY Out-of-Network",IP_Facility*'Plan Comparison Calculator'!$J$33*OONCostLoad-Z90,"") | AG90: =IF('Plan Comparison Calculator'!$F$33="In-Network",IP_Physician*'Plan Comparison Calculator'!$J$33,"") -> 0 | AH90: =IF('Plan Comparison Calculator'!$F$33="PLUS ONLY Out-of-Network",IP_Physician*'Plan Comparison Calculator'!$J$33*OONCostLoad,"")
C94: =SUM(C74:C90,C68) -> 0 | D94: =SUM(D74:D90,D68) -> 0 | E94: =SUM(E76:E90,E68) -> 0 | F94: =SUM(F76:F90,F68) -> 0 | G94: =MAX(SUM(G68:G86)-P2_In_LabMax,0)+SUM(G89:G90) -> 0 | H94: =MAX(SUM(H68:H86)-P2_Out_LabMax,0)+SUM(H89:H90) -> 0 | I94: =SUM(I76:I90,I68) -> 0 | J94: =SUM(J76:J90,J68) -> 0 | K94: =SUM(K76:K90,K68) -> 0 | L94: =SUM(L76:L90,L68) -> 0 | N94: =SUM(N74:N90,N68) -> 0 | O94: =SUM(O74:O90,O68) -> 0 | P94: =SUM(P76:P90,P68) -> 0 | Q94: =SUM(Q76:Q90,Q68) -> 0 | R94: =MAX(SUM(R68:R86)-P2_In_LabMax,0)+SUM(R89:R90) -> 0 | S94: =MAX(SUM(S68:S86)-P2_Out_LabMax,0)+SUM(S89:S90) -> 0 | T94: =SUM(T76:T90,T68) -> 0 | U94: =SUM(U76:U90,U68) -> 0 | V94: =SUM(V76:V90,V68) -> 0 | W94: =SUM(W76:W90,W68) -> 0 | Y94: =SUM(Y74:Y90,Y68) -> 0 | Z94: =SUM(Z74:Z90,Z68) -> 0 | AA94: =SUM(AA76:AA90,AA68) -> 0 | AB94: =SUM(AB76:AB90,AB68) -> 0 | AC94: =MAX(SUM(AC68:AC86)-P2_In_LabMax,0)+SUM(AC89:AC90) -> 0 | AD94: =MAX(SUM(AD68:AD86)-P2_Out_LabMax,0)+SUM(AD89:AD90) -> 0 | AE94: =SUM(AE76:AE90,AE68) -> 0 | AF94: =SUM(AF76:AF90,AF68) -> 0 | AG94: =SUM(AG76:AG90,AG68) -> 0 | AH94: =SUM(AH76:AH90,AH68) -> 0
C96: Rx Cost
C97: =P2_In_Rx1*'Plan Comparison Calculator'!$F$39+P2_Out_Rx1*'Plan Comparison Calculator'!$K$39 -> 0
C98: =P2_In_Rx2*'Plan Comparison Calculator'!$F$40+P2_Out_Rx2*'Plan Comparison Calculator'!$K$40 -> 0
C99: =P2_In_Rx3*'Plan Comparison Calculator'!$F$41+P2_Out_Rx3*'Plan Comparison Calculator'!$K$41 -> 0
C101: =SUM(C97:C99) -> 0 | E101: TOTAL Rx Copays
C105: =SUM(C94:D94) -> 0 | E105: Non Rx Copays | N105: =SUM(N94:O94)*$T$2 -> 0 | P105: Non Rx Copays | Y105: =SUM(Y94:Z94)*$AE$2 -> 0 | AA105: Non Rx Copays
C106: =E94+G94+I94+K94 -> 0 | E106: Grand Total Deductible - In-Network | N106: =(P94+R94+T94+V94)*T2 -> 0 | P106: Grand Total Deductible - In-Network | Y106: =(AA94+AC94+AE94+AG94)*AE2 -> 0 | AA106: Grand Total Deductible - In-Network
C107: =F94+H94+J94+L94 -> 0 | E107: Grand Total Deductible - Out-of-Network | N107: =(Q94+S94+U94+W94)*$T$2 -> 0 | P107: Grand Total Deductible - Out-of-Network | Y107: =(AB94+AD94+AF94+AH94)*$AE$2 -> 0 | AA107: Grand Total Deductible - Out-of-Network
C108: =SUM(E94,G94,I94,K94) -> 0 | E108: Grand Total Coinsurance - In-Network | N108: =SUM(P94,R94,T94,V94)*T2 -> 0 | P108: Grand Total Coinsurance - In-Network | Y108: =SUM(AA94,AC94,AE94,AG94)*AE2 -> 0 | AA108: Grand Total Coinsurance - In-Network
C109: =SUM(F94,H94,J94,L94) -> 0 | E109: Grand Total Coinsurance - Out-of-Network | N109: =SUM(Q94,S94,U94,W94)*T2 -> 0 | P109: Grand Total Coinsurance - Out-of-Network | Y109: =SUM(AB94,AD94,AF94,AH94) -> 0 | AA109: Grand Total Coinsurance - Out-of-Network
C111: =IF(SUM(C$106:C$107)>=P2_In_Deduct,(C$106/SUM(C$106:C$107))*P2_In_Deduct,C106) -> 0 | E111: Deductible OOP - In-Network | N111: =IF(SUM(N$106:N$107)>=P2_In_Deduct,(N$106/SUM(N$106:N$107))*P2_In_Deduct,N106) -> 0 | P111: Deductible OOP - In-Network | Y111: =IF(SUM(Y$106:Y$107)>=P2_In_Deduct,(Y$106/SUM(Y$106:Y$107))*P2_In_Deduct,Y106) -> 0 | AA111: Deductible OOP - In-Network
C112: =IF(SUM(C$106:C$107)>=P2_In_Deduct,(C$107/SUM(C$106:C$107))*P2_In_Deduct,C107) -> 0 | E112: Deductible OOP - Out-of-Network | N112: =IF(SUM(N$106:N$107)>=P2_In_Deduct,(N$107/SUM(N$106:N$107))*P2_In_Deduct,N107) -> 0 | P112: Deductible OOP - Out-of-Network | Y112: =IF(SUM(Y$106:Y$107)>=P2_In_Deduct,(Y$107/SUM(Y$106:Y$107))*P2_In_Deduct,Y107) -> 0 | AA112: Deductible OOP - Out-of-Network
C114: =MIN((C108-C111)*(1-P2_In_Coins),P2_In_OOPMax) -> 0 | E114: Coinsurance OOP - In-Network | N114: =MIN((N108-N111)*(1-P2_In_Coins),P2_In_OOPMax) -> 0 | P114: Coinsurance OOP - In-Network | Y114: =MIN((Y108-Y111)*(1-P2_In_Coins),P2_In_OOPMax) -> 0 | AA114: Coinsurance OOP - In-Network
C115: =MIN((C109-C112)*(1-P2_Out_Coins),P2_Out_OOPMax) -> 0 | E115: Coinsurance OOP - Out-of-Network | N115: =MIN((N109-N112)*(1-P2_Out_Coins),P2_Out_OOPMax) -> 0 | P115: Coinsurance OOP - Out-of-Network | Y115: =MIN((Y109-Y112)*(1-P2_Out_Coins),P2_Out_OOPMax) -> 0 | AA115: Coinsurance OOP - Out-of-Network
D117: Actual Max | E117: Plan Max OOP | F117: Sum Copay/Ded/Coins
C118: Employee Only | D118: =IF(F118<E118,F118,E118) -> 0 | E118: ='Plan Defn'!E9 -> 3000 | F118: =SUM(L$118:L$121) -> 0 | G118: INCLUDES Rx | K118: Family Deduct OOP | L118: =V118 -> 0 | T118: Family Deduct OOP - In-Network | V118: =MIN((C111+N111+Y111),(P2_In_Deduct*P2_In_FamMult)) -> 0
C119: Employee + Spouse | D119: =IF(F119<E119,F119,E119) -> 0 | E119: ='Plan Defn'!E$10 -> 6000 | F119: =SUM(L$118:L$121) -> 0 | G119: INCLUDES Rx | K119: Familiy Coinsurance OOP | L119: =V121 -> 0 | T119: Family Deduct OOP - Out-of-Network | V119: =MIN((C112+N112+Y112),(P2_Out_Deduct*P2_Out_FamMult)) -> 0
C120: Employee + Spouse + Child | D120: =IF(F120<E120,F120,E120) -> 0 | E120: ='Plan Defn'!E$10 -> 6000 | F120: =SUM(L$118:L$121) -> 0 | G120: INCLUDES Rx | K120: Family Other Copays | L120: =SUM(C94,N94,Y94) -> 0
C121: Employee + Spouse + Child(ren) | D121: =IF(F121<E121,F121,E121) -> 0 | E121: ='Plan Defn'!E$10 -> 6000 | F121: =SUM(L$118:L$121) -> 0 | G121: INCLUDES Rx | K121: Family RX Copays | L121: =C101 -> 0 | T121: Familiy Coinsurance OOP - In-Network | V121: =MAX(0,(SUM(C108:Y108)-V118)*(1-P2_In_OVCoins)) -> 0
C122: Employee + Child | D122: =IF(F122<E122,F122,E122) -> 0 | E122: ='Plan Defn'!E$10 -> 6000 | F122: =SUM(L$118:L$121) -> 0 | G122: INCLUDES Rx | T122: Familiy Coinsurance OOP - Out-of-Network | V122: =MIN((C115+N115+Y115),(P2_Out_OOPMax*P2_Out_FamMult)) -> 0
C123: Employee + Child(ren) | D123: =IF(F123<E123,F123,E123) -> 0 | E123: ='Plan Defn'!E$10 -> 6000 | F123: =SUM(L$118:L$121) -> 0 | G123: INCLUDES Rx
C124: Employee | N124: Spouse | Y124: Child(ren)
C125: Copay | E125: Office | G125: Outpatient/ Xray&Lab | I125: Facility | K125: Physician | N125: Copay | P125: Office | R125: Outpatient/ Xray&Lab | T125: Facility | V125: Physician | Y125: Copay | AA125: Office | AC125: Outpatient/ Xray&Lab | AE125: Facility | AG125: Physician
C126: NETWORK | E126: NETWORK | G126: NETWORK | I126: NETWORK | K126: NETWORK | N126: NETWORK | P126: NETWORK | R126: NETWORK | T126: NETWORK | V126: NETWORK | Y126: NETWORK | AA126: NETWORK | AC126: NETWORK | AE126: NETWORK | AG126: NETWORK
C127: IN | D127: OUT | E127: IN | F127: OUT | G127: IN | H127: OUT | I127: IN | J127: OUT | K127: IN | L127: OUT | N127: IN | O127: OUT | P127: IN | Q127: OUT | R127: IN | S127: OUT | T127: IN | U127: OUT | V127: IN | W127: OUT | Y127: IN | Z127: OUT | AA127: IN | AB127: OUT | AC127: IN | AD127: OUT | AE127: IN | AF127: OUT | AG127: IN | AH127: OUT
B128: Maternity | C128: =IF('Plan Comparison Calculator'!$G$11=FALSE,0,3*P3_In_OV+P3_In_Maternity_IP_Copay) -> 0 | E128: =IF('Plan Comparison Calculator'!$G$11=FALSE,0,Maternity_Office) -> 0 | G128: =IF('Plan Comparison Calculator'!$G$11=FALSE,0,Maternity_XrayLab) -> 0 | I128: =IF('Plan Comparison Calculator'!$G$11=FALSE,0,Maternity_Facility) -> 0 | K128: =IF('Plan Comparison Calculator'!$G$11=FALSE,0,Maternity_Physician) -> 0 | N128: =IF('Plan Comparison Calculator'!$I$11=FALSE,0,3*P3_In_OV+P3_In_Maternity_IP_Copay) -> 0 | P128: =IF('Plan Comparison Calculator'!$I$11=FALSE,0,Maternity_Office) -> 0 | R128: =IF('Plan Comparison Calculator'!$I$11=FALSE,0,Maternity_XrayLab) -> 0 | T128: =IF('Plan Comparison Calculator'!$I$11=FALSE,0,Maternity_Facility) -> 0 | V128: =IF('Plan Comparison Calculator'!$I$11=FALSE,0,Maternity_Physician) -> 0 | AE128: =IF(AND('Plan Comparison Calculator'!$G$11=FALSE,'Plan Comparison Calculator'!$I$11=FALSE),0,Baby_Facility) -> 0 | AG128: =IF(AND('Plan Comparison Calculator'!$G$11=FALSE,'Plan Comparison Calculator'!$I$11=FALSE),0,Baby_Physician) -> 0
B134: # of Annual Physicals | C134: ='Plan Comparison Calculator'!$G$17*P3_In_OV*0 -> 0 | E134: ='Plan Comparison Calculator'!$G$17*Physical_Office-C134 -> 0 | G134: ='Plan Comparison Calculator'!$G$17*Physical_XrayLab -> 0 | N134: ='Plan Comparison Calculator'!$I$17*P3_In_OV*0 -> 0 | P134: ='Plan Comparison Calculator'!$I$17*Physical_Office-N134 -> 0 | R134: ='Plan Comparison Calculator'!$I$17*Physical_XrayLab -> 0 | Y134: ='Plan Comparison Calculator'!$J$17*P3_In_OV*0 -> 0 | AA134: ='Plan Comparison Calculator'!$J$17*Physical_Office-Y134 -> 0 | AC134: ='Plan Comparison Calculator'!$J$17*Physical_XrayLab -> 0
B136: # of Primary Care Visits | C136: ='Plan Comparison Calculator'!$G$19*P3_In_OV -> 0 | E136: 0 | G136: ='Plan Comparison Calculator'!$G$19*Primary_XrayLab -> 0 | N136: ='Plan Comparison Calculator'!$I$19*P3_In_OV -> 0 | P136: 0 | R136: ='Plan Comparison Calculator'!$I$19*Primary_XrayLab -> 0 | Y136: ='Plan Comparison Calculator'!J19*P3_In_OV -> 0 | AA136: 0 | AC136: ='Plan Comparison Calculator'!$J$19*Primary_XrayLab -> 0
A138: =P3_Plan -> Virtual Plus Plan | B138: # of Specialist Visits | C138: ='Plan Comparison Calculator'!$G$21*'Plan Defn'!H12 -> 0 | E138: 0 | G138: 0 | N138: ='Plan Comparison Calculator'!I19*'Plan Defn'!H12 -> 0 | P138: 0 | R138: 0 | Y138: ='Plan Comparison Calculator'!J21*'Plan Defn'!H12 -> 0 | AA138: 0 | AC138: 0
B140: # of Emergency Room Visits | C140: ='Plan Comparison Calculator'!$G$23*P3_In_ER -> 0 | I140: =ER*'Plan Comparison Calculator'!$G$23-C140 -> 0 | N140: ='Plan Comparison Calculator'!I21*'OOP Calc'!N138 -> 0 | T140: =ER*'Plan Comparison Calculator'!$I$23-N140 -> 0 | Y140: ='Plan Comparison Calculator'!$J$23*P3_In_ER -> 0 | AE140: =ER*'Plan Comparison Calculator'!$J$23-Y140 -> 0
B142: # of Lab Tests | G142: =Lab*'Plan Comparison Calculator'!$G$25 -> 0 | R142: =Lab*'Plan Comparison Calculator'!$I$25 -> 0 | AC142: =Lab*'Plan Comparison Calculator'!$J$25 -> 0
B144: # of X-rays | G144: =Xray*'Plan Comparison Calculator'!$G$27 -> 0 | R144: =Xray*'Plan Comparison Calculator'!$I$27 -> 0 | AC144: =Xray*'Plan Comparison Calculator'!$J$27 -> 0
B146: # of CAT scans/MRIs/Etc. | G146: =CatScan*'Plan Comparison Calculator'!$G$29 -> 0 | R146: =CatScan*'Plan Comparison Calculator'!$I$29 -> 0 | AC146: =CatScan*'Plan Comparison Calculator'!$J$29 -> 0
B148: # of Outpatient Surgeries | C148: ='Plan Comparison Calculator'!$G$31*P3_In_OP_Surgery_Copay -> 0 | I148: =Surgery_Facility*'Plan Comparison Calculator'!$G$31-C148 -> 0 | K148: =Surgery_Physician*'Plan Comparison Calculator'!$G$31 -> 0 | N148: ='Plan Comparison Calculator'!$I$31*P3_In_OP_Surgery_Copay -> 0 | T148: =Surgery_Facility*'Plan Comparison Calculator'!$I$31-N148 -> 0 | V148: =Surgery_Physician*'Plan Comparison Calculator'!$I$31 -> 0 | Y148: ='Plan Comparison Calculator'!$J$31*P3_In_OP_Surgery_Copay -> 0 | AE148: =Surgery_Facility*'Plan Comparison Calculator'!$J$31-Y148 -> 0 | AG148: =Surgery_Physician*'Plan Comparison Calculator'!$J$31 -> 0
B150: # of Inpatient Hospital Admissions | C150: ='Plan Comparison Calculator'!$G$33*P3_In_IP_Hosp_Copay -> 0 | G150: =IP_XrayLab*'Plan Comparison Calculator'!$G$33 -> 0 | I150: =IP_Facility*'Plan Comparison Calculator'!$G$33-C150 -> 0 | K150: =IP_Physician*'Plan Comparison Calculator'!$G$33 -> 0 | N150: ='Plan Comparison Calculator'!$I$33*P3_In_IP_Hosp_Copay -> 0 | R150: =IP_XrayLab*'Plan Comparison Calculator'!$I$33 -> 0 | T150: =IP_Facility*'Plan Comparison Calculator'!$I$33-N150 -> 0 | V150: =IP_Physician*'Plan Comparison Calculator'!$I$33 -> 0 | Y150: ='Plan Comparison Calculator'!$J$33*P3_In_IP_Hosp_Copay -> 0 | AC150: =IP_XrayLab*'Plan Comparison Calculator'!$J$33 -> 0 | AE150: =IP_Facility*'Plan Comparison Calculator'!$J$33-Y150 -> 0 | AG150: =IP_Physician*'Plan Comparison Calculator'!$J$33 -> 0
C154: =SUM(C134:C150,C128) -> 0 | E154: =SUM(E136:E150,E128) -> 0 | G154: =MAX(SUM(G128:G146)-P3_In_LabMax,0)+SUM(G149:G150) -> 0 | I154: =SUM(I136:I150,I128) -> 0 | K154: =SUM(K136:K150,K128) -> 0 | N154: =SUM(N134:N150,N128) -> 0 | P154: =SUM(P136:P150,P128) -> 0 | R154: =MAX(SUM(R128:R146)-P3_In_LabMax,0)+SUM(R149:R150) -> 0 | T154: =SUM(T136:T150,T128) -> 0 | V154: =SUM(V136:V150,V128) -> 0 | Y154: =SUM(Y134:Y150,Y128) -> 0 | AA154: =SUM(AA136:AA150,AA128) -> 0 | AC154: =MAX(SUM(AC128:AC146)-P3_In_LabMax,0)+SUM(AC149:AC150) -> 0 | AE154: =SUM(AE136:AE150,AE128) -> 0 | AG154: =SUM(AG136:AG150,AG128) -> 0
C156: Rx Cost
C157: =P3_In_Rx1*'Plan Comparison Calculator'!$F$39+P3_Out_Rx1*'Plan Comparison Calculator'!$K$39 -> 0
C158: =P3_In_Rx2*'Plan Comparison Calculator'!$F$40+P3_Out_Rx2*'Plan Comparison Calculator'!$K$40 -> 0
C159: =P3_In_Rx3*'Plan Comparison Calculator'!$F$41+P3_Out_Rx3*'Plan Comparison Calculator'!$K$41 -> 0
C161: =SUM(C157:C159) -> 0 | E161: TOTAL Rx Copays
C165: =SUM(C154:D154) -> 0 | E165: Non Rx Copays | N165: =SUM(N154:O154)*T$2 -> 0 | P165: Non Rx Copays | Y165: =SUM(Y154:Z154)*AE$2 -> 0 | AA165: Non Rx Copays
C166: =E154+G154+I154+K154 -> 0 | E166: Grand Total Deductible - In-Network | N166: =(P154+R154+T154+V154)*T$2 -> 0 | P166: Grand Total Deductible - In-Network | Y166: =(AA154+AC154+AE154+AG154)*AE$2 -> 0 | AA166: Grand Total Deductible - In-Network
C168: =E154+G154+I154+K154 -> 0 | E168: Grand Total Coinsurance - In-Network | N168: =(P154+R154+T154+V154)*T$2 -> 0 | P168: Grand Total Coinsurance - In-Network | Y168: =(AA154+AC154+AE154+AG154)*AE$2 -> 0 | AA168: Grand Total Coinsurance - In-Network
C171: =MIN(C166,P3_In_Deduct) -> 0 | E171: Deductible OOP - In-Network | N171: =MIN(N166,P3_In_Deduct) -> 0 | P171: Deductible OOP - In-Network | Y171: =MIN(Y166,P3_In_Deduct) -> 0 | AA171: Deductible OOP - In-Network
C174: =MIN((C168-C171)*(1-P3_In_Coins),P3_In_OOPMax) -> 0 | E174: Coinsurance OOP - In-Network | N174: =MIN((N168-N171)*(1-P3_In_Coins),P3_In_OOPMax) -> 0 | P174: Coinsurance OOP - In-Network | Y174: =IF(Y168>=Y171,MIN((Y168-Y171)*(1-P3_In_Coins),P3_In_OOPMax),0) -> 0 | AA174: Coinsurance OOP - In-Network
D177: Actual Max | E177: Plan Max OOP | F177: Sum Copay/Ded/Coins
C178: Employee Only | D178: =IF(F178<E178,F178,E178) -> 0 | E178: ='Plan Defn'!H9 -> 3000 | F178: =SUM(L$178:L$181) -> 0 | G178: INCLUDES Rx | K178: Family Deduct OOP | L178: =V178 -> 0 | T178: Family Deduct OOP - In-Network | V178: =MIN((C171+N171+Y171),(P3_In_Deduct*P3_In_FamMult)) -> 0
C179: Employee + Spouse | D179: =IF(F179<E179,F179,E179) -> 0 | E179: ='Plan Defn'!H$10 -> 6000 | F179: =SUM(L$178:L$181) -> 0 | G179: INCLUDES Rx | K179: Familiy Coinsurance OOP | L179: =V181 -> 0 | T179: Family Deduct OOP - Out-of-Network
C180: Employee + Spouse + Child | D180: =IF(F180<E180,F180,E180) -> 0 | E180: ='Plan Defn'!H$10 -> 6000 | F180: =SUM(L$178:L$181) -> 0 | G180: INCLUDES Rx | K180: Family Other Copays | L180: =SUM(C154,N154,Y154) -> 0
C181: Employee + Spouse + Child(ren) | D181: =IF(F181<E181,F181,E181) -> 0 | E181: ='Plan Defn'!H$10 -> 6000 | F181: =SUM(L$178:L$181) -> 0 | G181: INCLUDES Rx | K181: Family RX Copays | L181: =C161 -> 0 | T181: Familiy Coinsurance OOP - In-Network | V181: =MIN((C174+N174+Y174),(P3_In_OOPMax*P3_In_FamMult)) -> 0
C182: Employee + Child | D182: =IF(F182<E182,F182,E182) -> 0 | E182: ='Plan Defn'!H$10 -> 6000 | F182: =SUM(L$178:L$181) -> 0 | G182: INCLUDES Rx | T182: Familiy Coinsurance OOP - Out-of-Network
C183: Employee + Child(ren) | D183: =IF(F183<E183,F183,E183) -> 0 | E183: ='Plan Defn'!H$10 -> 6000 | F183: =SUM(L$178:L$181) -> 0 | G183: INCLUDES Rx
C184: Employee | N184: Spouse | Y184: Child(ren)
C185: Copay | E185: Office | G185: Outpatient/ Xray&Lab | I185: Facility | K185: Physician | N185: Copay | P185: Office | R185: Outpatient/ Xray&Lab | T185: Facility | V185: Physician | Y185: Copay | AA185: Office | AC185: Outpatient/ Xray&Lab | AE185: Facility | AG185: Physician
...

Sheet Plan Defn
B1: PLAN DEFINITION
A2: Carrier | B2: Kaiser | E2: Kaiser | H2: Kaiser
A3: Plan Name | B3: HSA HMO | E3: Access PPO | H3: Virtual Plus Plan
B5: In Network | C5: Out of Network | E5: In Network | F5: Out of Network | H5: In Network | I5: Out of Network
A6: Deductible | B6: 1750 | E6: 750 | F6: 750 | H6: 500
A7: Family Max __x | B7: 2 | E7: 2 | F7: 2 | H7: 2
A8: Coinsurance OOP Max | B8: 3500 | E8: 3000 | F8: 3000 | H8: =H9 -> 3000
A9: Individual Max Out of Pocket | B9: 3500 | E9: 3000 | F9: 3000 | H9: 3000
A10: Family Max Out of Pocket | B10: 7000 | E10: 6000 | F10: 6000 | H10: 6000
A11: PCP | B11: 0 | E11: 0 | F11: 0 | H11: 20
A12: Specialist | H12: 40
A13: OV # 1st $ Visits
A14: Wellness Ded Waived but Coins Apply
A15: Office Coinsurance % | B15: 0.8 | E15: 0.9 | F15: 0.7 | H15: 0.8
A17: ER Copay | B17: 0 | E17: 150 | F17: 150 | H17: 200
A18: IP Hospital Copay | B18: 0 | E18: 0 | F18: 0 | H18: 0
A19: Maternity IP Admit Copay | B19: 0 | E19: 0 | F19: 0 | H19: 0
A20: OP Surgery Copay | B20: 0 | E20: 0 | F20: 0 | H20: 20
A21: Other Coinsurance % | B21: 0.8 | E21: 0.9 | F21: 0.7 | H21: 0.8
A22: 1st Dollar Xray Lab Benefit | B22: 0 | E22: 0 | F22: 0 | H22: 0
A23: Xray/Lab Coinsurance Office
A24: Xray/Lab Coinsurance Facility
A26: Rx Deduct
A27: Rx Tier 1 | B27: 15 | E27: 15 | H27: 15
A28: Rx Tier 2 | B28: 30 | E28: 25 | H28: 35
A29: Rx Tier 3 | B29: 30 | E29: 45 | H29: 150
E32: = inactive
A34: 2027 Monthly Employee Contributions | B34: Employee Cost Sharing | G34: Spouse | H34: Child
B35: =CONCATENATE(P1_Carrier," - ",P1_Plan) -> Kaiser - HSA HMO | C35: =CONCATENATE(P2_Carrier," - ",P2_Plan) -> Kaiser - Access PPO | E35: =CONCATENATE(P2_Carrier," - ",P3_Plan) -> Kaiser - Virtual Plus Plan | G35: Adjudication | H35: Adjudication
A36: Employee Only | B36: 35 | C36: 140 | E36: 50 | G36: 0 | H36: 0
A37: Employee + Spouse | B37: 305 | C37: 978 | E37: 445 | G37: 1 | H37: 0
A38: Employee + Child(ren) | B38: 70 | C38: 530 | E38: 147 | G38: 1 | H38: 1
A39: Employee + Spouse + Child(ren) | B39: 335 | C39: 1020 | E39: 464 | G39: 1 | H39: 1
G40: 0 | H40: 1
B41: HSA | E41: FSA
B42: Contribution | E42: Contribution
A43: Employee Only | B43: =65*12 -> 780
A44: Employee + Spouse | B44: =130*12 -> 1560
A45: Employee + Child(ren) | B45: =130*12 -> 1560
A46: Employee + Spouse + Child(ren) | B46: =130*12 -> 1560
A49: Employee Only | B49: =B38-B36 -> 35 | C49: =C38-C36 -> 390 | E49: =E38-E36 -> 97
A50: Employee + Spouse | B50: =B39-B37 -> 30 | C50: =C39-C37 -> 42 | E50: =E39-E37 -> 19
A51: Employee + Child(ren) | B51: 0 | C51: 0 | E51: 0
A52: Employee + Spouse + Child(ren) | B52: 0 | C52: 0 | E52: 0

Sheet Base Costs
A1: Data Source:\\aonnet.aon.net\nafs\FieldData\SEAACW\VOL1\USERS\HWCLIENT\HWLarge\Pacific Lutheran University\2023 Forward\Financial\AV Model\2027\PLU 2027 Plan Design AVMod2026.2.xlsb
C2: Gross Costs
C3: Office | D3: Outpatient/ Xray&Lab | E3: Facility | F3: Physician
A6: Maternity - Adult | C6: 1000 | D6: 900 | E6: 16682.255 | F6: 3656.5978
A8: Maternity - Baby | E8: 1200 | F8: 400
A12: # of Annual Physicals | C12: 225
A14: # of Primary Care Visits | C14: 299.04159 | D14: 0 | H14: =Primary_Office*3 -> 897.12477
A16: # of Specialist Visits | C16: 304.08572 | D16: 150 | H16: =SUM(C16:D16)*3 -> 1362.2571
A18: # of Emergency Room Visits | E18: 4415.9252 | H18: =SUM(H14:H16) -> 2259.3819
A20: # of Lab Tests | D20: 128.46172
A22: # of X-rays | D22: 4590.1338
A24: # of CAT scans/MRIs/Etc. | D24: 4547.9037
A26: # of Outpatient Surgeries | E26: 26717.382 | F26: 1896.2036
A28: # of Inpatient Hospital Admissions | D28: 5602.6649 | E28: 26599.895 | F28: 423.2288
A30: Average Cost of Rx
A31: Generic Rx | C31: 45.708126
A32: Preferred Brand Rx | C32: 520.81951
A33: Non-Preferred Brand Rx | C33: 354.43726
C35: Items in Blue from AV Model

Sheet Drop Down Parameters
F2: HSA | G2: Innova
A8: 10 | C8: 0
A9: =A8+10 -> 20 | C9: 1
A10: =A9+10 -> 30
A11: =A10+10 -> 40
A12: =A11+10 -> 50
A13: =A12+10 -> 60 | C13: 0
A14: =A13+10 -> 70 | C14: 1
A15: =A14+10 -> 80 | C15: 2
A16: =A15+10 -> 90 | C16: 3
A17: =A16+10 -> 100 | C17: 4
C18: 5
C19: 6
C20: 7
A21: 20 | C21: 8
A22: =A21+20 -> 40 | C22: 9
A23: =A22+20 -> 60 | C23: 10
A24: =A23+20 -> 80 | C24: 11
A25: =A24+20 -> 100 | C25: 12
A26: =A25+20 -> 120 | C26: 13
A27: =A26+20 -> 140 | C27: 14
A28: =A27+20 -> 160 | C28: 15
A29: =A28+20 -> 180 | C29: 16
A30: =A29+20 -> 200 | C30: 17
C31: 18
C32: 19
A33: 50 | C33: 20
A34: =A33+50 -> 100 | C34: 21
A35: =A34+50 -> 150 | C35: 22
A36: =A35+50 -> 200 | C36: 23
A37: =A36+50 -> 250 | C37: 24
A38: =A37+50 -> 300
A39: =A38+50 -> 350
A40: =A39+50 -> 400
A41: =A40+50 -> 450
A42: =A41+50 -> 500
A43: =A42+50 -> 550
A44: =A43+50 -> 600
A45: =A44+50 -> 650
A46: =A45+50 -> 700
A47: =A46+50 -> 750
A48: =A47+50 -> 800
A49: =A48+50 -> 850
... A52: =A51+50 -> 1000
A56: In-Network
A57: PLUS ONLY Out-of-Network
